BEGIN:VCALENDAR
VERSION:2.0
PRODID:-//Mareike Morgenrot - ECPv6.4.0.1//NONSGML v1.0//EN
CALSCALE:GREGORIAN
METHOD:PUBLISH
X-ORIGINAL-URL:https://mareikemorgenrot.de
X-WR-CALDESC:Veranstaltungen fÃ¼r Mareike Morgenrot
REFRESH-INTERVAL;VALUE=DURATION:PT1H
X-Robots-Tag:noindex
X-PUBLISHED-TTL:PT1H
BEGIN:VTIMEZONE
TZID:Europe/Berlin
BEGIN:DAYLIGHT
TZOFFSETFROM:+0100
TZOFFSETTO:+0200
TZNAME:CEST
DTSTART:20250330T010000
END:DAYLIGHT
BEGIN:STANDARD
TZOFFSETFROM:+0200
TZOFFSETTO:+0100
TZNAME:CET
DTSTART:20251026T010000
END:STANDARD
END:VTIMEZONE
BEGIN:VEVENT
DTSTART;TZID=Europe/Berlin:20251001T183000
DTEND;TZID=Europe/Berlin:20251001T210000
DTSTAMP:20260419T210624
CREATED:20250823T133008Z
LAST-MODIFIED:20250823T133436Z
UID:3156-1759343400-1759352400@mareikemorgenrot.de
SUMMARY:Konzert in der StadtbÃ¼cherei
DESCRIPTION:Wir spielen auch dieses Jahr wieder direkt in EckernfÃ¶rde und freuen uns drauf! \n 
URL:https://mareikemorgenrot.de/event/save-the-date-konzert-in-der-stadtbuecherei/
LOCATION:StadtbÃ¼cherei EckernfÃ¶rde\, Am Exer 1\, EckernfÃ¶rde\, 24340\, Deutschland
ATTACH;FMTTYPE=image/jpeg:https://mareikemorgenrot.de/wp-content/uploads/2022/07/IMG_2871-scaled.jpg
END:VEVENT
END:VCALENDAR